BEGIN:VCALENDAR
VERSION:2.0
PRODID:-//A Place For All Pieces - ECPv6.15.20//NONSGML v1.0//EN
CALSCALE:GREGORIAN
METHOD:PUBLISH
X-WR-CALNAME:A Place For All Pieces
X-ORIGINAL-URL:https://www.aplaceforallpieces.org
X-WR-CALDESC:Events for A Place For All Pieces
REFRESH-INTERVAL;VALUE=DURATION:PT1H
X-Robots-Tag:noindex
X-PUBLISHED-TTL:PT1H
BEGIN:VTIMEZONE
TZID:America/Los_Angeles
BEGIN:DAYLIGHT
TZOFFSETFROM:-0800
TZOFFSETTO:-0700
TZNAME:PDT
DTSTART:20250309T100000
END:DAYLIGHT
BEGIN:STANDARD
TZOFFSETFROM:-0700
TZOFFSETTO:-0800
TZNAME:PST
DTSTART:20251102T090000
END:STANDARD
BEGIN:DAYLIGHT
TZOFFSETFROM:-0800
TZOFFSETTO:-0700
TZNAME:PDT
DTSTART:20260308T100000
END:DAYLIGHT
BEGIN:STANDARD
TZOFFSETFROM:-0700
TZOFFSETTO:-0800
TZNAME:PST
DTSTART:20261101T090000
END:STANDARD
BEGIN:DAYLIGHT
TZOFFSETFROM:-0800
TZOFFSETTO:-0700
TZNAME:PDT
DTSTART:20270314T100000
END:DAYLIGHT
BEGIN:STANDARD
TZOFFSETFROM:-0700
TZOFFSETTO:-0800
TZNAME:PST
DTSTART:20271107T090000
END:STANDARD
END:VTIMEZONE
BEGIN:VEVENT
DTSTART;TZID=America/Los_Angeles:20260118T080000
DTEND;TZID=America/Los_Angeles:20260131T170000
DTSTAMP:20260421T174845
CREATED:20260118T155712Z
LAST-MODIFIED:20260118T155712Z
UID:3590-1768723200-1769878800@www.aplaceforallpieces.org
SUMMARY:Spring KICKBALL
DESCRIPTION:A Place For All Pieces is excited to announce signups for our third season of Adult Kickball for people at least 14 years old.\n\n\n\n\n\nAll games will be played on Friday nights from 4:30 pm – 5:30 pm at David A Brown Middle School in Wildomar (21861 Grand Ave\, Wildomar\, CA 92595). Games will be played on Fridays from 3/20 – 5/22\, with no game scheduled on 4/3.\n\n\n\n\n\nIt is our third season of adult kickball\, and we will try to have some neuro-typical buddies for each player. However\, there will not be enough buddies for everyone. Accordingly\, all parents must be willing to be a buddy for their child if their child requires a buddy to participate. We are hoping this won’t be necessary\, but just in case\, you may be required to assist your child if that is required and we don’t have enough buddies.\n\n\n\n\n\nWe only have room for 25 players this season\, so this is what you must do if you want to save a spot for your child:\n\n\n\n\n\n1. Pay $25 to A Place For All Pieces (APFAP). This is the only cost you will pay for each player and covers the entire season: https://buy.stripe.com/aFa28rciL05Y0175Uh4ko05\n\n\n\n\n\n2. Send your player’s name and shirt size (S\, M\, L\, XL\, XXL\, XXXL) to kofijeff@yahoo.com\n\n\n\n\n\nLooking forward to a great kickball season\, and hope your child can play with us!!!!
URL:https://www.aplaceforallpieces.org/event/spring-kickball/
LOCATION:David A Brown Middle School\, 21861 Grand Ave\, Wildomar\, CA\, 92595\, United States
END:VEVENT
BEGIN:VEVENT
DTSTART;TZID=America/Los_Angeles:20260307T083000
DTEND;TZID=America/Los_Angeles:20260307T170000
DTSTAMP:20260421T174845
CREATED:20260110T010632Z
LAST-MODIFIED:20260110T010632Z
UID:3586-1772872200-1772902800@www.aplaceforallpieces.org
SUMMARY:Spring World Cubing Competition
DESCRIPTION:The World Cubing Competition is back in Temecula Valley.  Registration is now open.
URL:https://www.aplaceforallpieces.org/event/spring-world-cubing-competition/
LOCATION:The Awakening Event Center\, 39681 Avenida Acacias\, Murrieta\, CA\, 92563\, United States
END:VEVENT
BEGIN:VEVENT
DTSTART;VALUE=DATE:20260417
DTEND;VALUE=DATE:20260501
DTSTAMP:20260421T174845
CREATED:20260418T005504Z
LAST-MODIFIED:20260418T005504Z
UID:3633-1776384000-1777593599@www.aplaceforallpieces.org
SUMMARY:Fall Soccer Registration
DESCRIPTION:Murrieta Youth Soccer League has begun registration for the Fall 2026 TOPSoccer Program. Games will begin August 21st and end on November 6th. All games will be played on Friday nights at (or near) Los Alamos Sports Park in Murrieta. The cost is $25 per player. You must register for TOPSoccer online. Please go to the following link and select the registration button in the top right hand of the screen: \nMYSLTOPs.sportsaffinity.com\n\nTOPSoccer is for players with special needs.\n\nChildren must be born on or before December 31\, 2021.\nThe TOPSoccer program can accommodate only 30 players\, so space is limited. \nThis will be my 12th season coaching the TOPSoccer MYSL team\, and I could not be more excited!! \nWhat is the Murrieta Youth Soccer TOPSoccer Program? \n• Community-based training and team placement program for young athletes with disabilities organized by youth soccer association volunteers. \n• Program is designed to bring the opportunity of learning and playing soccer to any boy or girl\, who has a cognitive or physical disability. \n• Goal is that every young athlete with disabilities will become a valued and successful member of the Murrieta Youth Soccer League family. \nPlease don’t hesitate to contact Jeff Kirshberg (kofijeff@yahoo.com ) with any questions regarding the TOPS Program.
URL:https://www.aplaceforallpieces.org/event/fall-soccer-registration/
END:VEVENT
END:VCALENDAR