BEGIN:VCALENDAR
VERSION:2.0
PRODID:-//A Place For All Pieces - ECPv6.15.20//NONSGML v1.0//EN
CALSCALE:GREGORIAN
METHOD:PUBLISH
X-WR-CALNAME:A Place For All Pieces
X-ORIGINAL-URL:https://www.aplaceforallpieces.org
X-WR-CALDESC:Events for A Place For All Pieces
REFRESH-INTERVAL;VALUE=DURATION:PT1H
X-Robots-Tag:noindex
X-PUBLISHED-TTL:PT1H
BEGIN:VTIMEZONE
TZID:America/Los_Angeles
BEGIN:DAYLIGHT
TZOFFSETFROM:-0800
TZOFFSETTO:-0700
TZNAME:PDT
DTSTART:20240310T100000
END:DAYLIGHT
BEGIN:STANDARD
TZOFFSETFROM:-0700
TZOFFSETTO:-0800
TZNAME:PST
DTSTART:20241103T090000
END:STANDARD
BEGIN:DAYLIGHT
TZOFFSETFROM:-0800
TZOFFSETTO:-0700
TZNAME:PDT
DTSTART:20250309T100000
END:DAYLIGHT
BEGIN:STANDARD
TZOFFSETFROM:-0700
TZOFFSETTO:-0800
TZNAME:PST
DTSTART:20251102T090000
END:STANDARD
BEGIN:DAYLIGHT
TZOFFSETFROM:-0800
TZOFFSETTO:-0700
TZNAME:PDT
DTSTART:20260308T100000
END:DAYLIGHT
BEGIN:STANDARD
TZOFFSETFROM:-0700
TZOFFSETTO:-0800
TZNAME:PST
DTSTART:20261101T090000
END:STANDARD
END:VTIMEZONE
BEGIN:VEVENT
DTSTART;TZID=America/Los_Angeles:20251014T090000
DTEND;TZID=America/Los_Angeles:20251014T230000
DTSTAMP:20260421T160946
CREATED:20250330T184611Z
LAST-MODIFIED:20251012T191415Z
UID:3467-1760432400-1760482800@www.aplaceforallpieces.org
SUMMARY:Cultivating Inclusion
DESCRIPTION:We have partnered with Cultivating Inclusion to provide a safe space to learn about growing and harvesting plants.  Come check out this beautiful place every Monday from 9am -11am
URL:https://www.aplaceforallpieces.org/event/cultivating-inclusion/
LOCATION:Cultivating Inclusion\, 39775 Alta Murrieta\, Murrieta\, CA\, 92563\, United States
CATEGORIES:Volunteer at the Farm
END:VEVENT
BEGIN:VEVENT
DTSTART;VALUE=DATE:20250824
DTEND;VALUE=DATE:20250925
DTSTAMP:20260421T160946
CREATED:20250824T212702Z
LAST-MODIFIED:20250824T212702Z
UID:3512-1755993600-1758758399@www.aplaceforallpieces.org
SUMMARY:Winter Basketball 2025
DESCRIPTION:There will be 2 youth and 2 adult special needs basketball teams this year! The Temecula Youth Basketball League (TYBL) and the Murrieta Valley Youth Basketball (MVYB) will both have youth teams in the 2025-26 Winter Season\, and children must be in grades K-12 to participate. There will also be an adult special needs basketball team in Murrieta. \nIf you are a member of Regional Center’s SDP Program\, I appologize\, but none of the teams accept payment from SDP. \nPlease note that due to scheduling constraints\, you may register for only one of the youth teams. During registration\, be sure to select either “Champions” for TYBL or “STARS” for MVYB. Registration is open for all 3 teams. To help you make an informed choice for your young athlete\, here are some details about each team: \nTYBL Champions Youth Team:\n• Start Date: Saturday\, December 6\n• End Date: Saturday\, February 21 (with breaks on 12/27 and 1/3)\n• Game Times: Mornings\, one-hour duration\, most likely at 9 am\n• Location: Temecula Community Recreational Center (CRC)\, 30875 Rancho Vista Rd\, Temecula\, CA 92592\n•Coach Faye will be coaching the TYBL team.\n• Cost: $25 per player\, and you can register here: \nhttps://tybl.sportngin.com/register/form/752833801?_gl=1*1qbzd22*_ga*MTE5NDk4NzYzNS4xNzU1NDQ3MTEz*_ga_PQ25JN9PJ8*czE3NTU0NDcxMTIkbzEkZzEkdDE3NTU0NDg1NTIkajYwJGwwJGgw#_ga=2.29486335.110963147.1755447114-1194987635.1755447113 \nMVYB STARS Youth Team:\n• Start Date: Saturday\, December 13\n• End Date: Saturday\, February 28 (with breaks on 12/27 and 1/3)\n• Game Times: Mornings\, one-hour duration\, begins at 9 am\n• Location: Shivela Middle School\, 24515 Lincoln Ave\, Murrieta\, CA 92562\n• Coach Jeff will be coaching this team\n• Cost: $25 per player if you use the code STARSWINTER25 (Make sure you selected the STARS team when selecting the team you are registering for on the 4th page. Eventhough it says it will cost $260\, if you enter the code\, it will reduce the cost to $25 plus credit card fees)\nhttps://murrietavalleyyouthbasketball.sportngin.com/register/form/265518979?_gl=1*18yp81d*_ga*MTg4NDE5NDc2Ni4xNzA1OTk1NjU5*_ga_PQ25JN9PJ8*czE3NTI2MDQ2NTgkbzIzNSRnMSR0MTc1MjYwNTU5NSRqMzckbDAkaDA.#_ga=2.107772299.803571503.1752454350-1884194766.1705995659 \nAPFAP Adult STARS Team (18 years and older):\n• Start Date: Friday\, December 12\n• End Date: Friday\, February 27 (with breaks on 12/26 and 1/2)\n• Game Times: 4 -5 pm or 5-6 pm\, one-hour duration\, on Fridays\n• Location: Rock Fitness in Wildomar (24305 Prielipp Rd STE 107\, Wildomar\, CA 92595).\n• Coach Jeff will be coaching this team\n• Cost: $25 per player \nTo register for the Adult STARS team you must: \n1. Pay $25 to A Place For All Pieces (APFAP). This is the only cost you will pay for each player and covers the entire season\, and it can be paid as a donation to APFAP at this link: https://www.aplaceforallpieces.org/make-a-donation/ \n2. Reply to this email\, confirm your child is interested in the Adult team\, and send me your child’s sizes for the following\, options are YXS\, YS\, YM\, YL\, AS\, AM\, AL\, AXL\, AXXL\, AXXXL\, AXXXXL\na. Shorts:\nb. Jersey: \nFor all the basketball teams\, we will try to have neuro-typical buddies for each player. However\, it is possible that there will not be enough buddies for everyone. Accordingly\, all parents must be willing to be a buddy for their child if their child requires a buddy to participate. We are hoping this wont be necessary\, but just in case\, you may be required to assist your child if that is required and we don’t have enough buddies. \nPlease be aware that each team has limited capacity\, accommodating up to 25 players. All teams share a commitment to: \n• Offering community-based training and team placement programs for young athletes with disabilities\, led by dedicated youth basketball volunteers.\n• Providing an inclusive platform for boys and girls with cognitive or physical disabilities to learn and enjoy basketball.\n• Striving to integrate every young athlete with disabilities into our local Youth basketball family\, ensuring they feel valued and successful. \nWe look forward to an exciting season of basketball\, unity\, and empowerment for all participants. Join us in making this a memorable experience for our neurodiverse friends and their families!
URL:https://www.aplaceforallpieces.org/event/winter-basketball-2025/
LOCATION:Rock Fitness\, 24305 Prielipp Rd STE 107\,\, Wildomar\, CA\, 92595\, United States
CATEGORIES:Basketball
END:VEVENT
END:VCALENDAR